BEGIN:VCALENDAR
VERSION:2.0
PRODID:-//The Skating Club of Boston - ECPv6.7.0//NONSGML v1.0//EN
CALSCALE:GREGORIAN
METHOD:PUBLISH
X-ORIGINAL-URL:https://scboston.org
X-WR-CALDESC:Events for The Skating Club of Boston
REFRESH-INTERVAL;VALUE=DURATION:PT1H
X-Robots-Tag:noindex
X-PUBLISHED-TTL:PT1H
BEGIN:VTIMEZONE
TZID:America/New_York
BEGIN:DAYLIGHT
TZOFFSETFROM:-0500
TZOFFSETTO:-0400
TZNAME:EDT
DTSTART:20250309T070000
END:DAYLIGHT
BEGIN:STANDARD
TZOFFSETFROM:-0400
TZOFFSETTO:-0500
TZNAME:EST
DTSTART:20251102T060000
END:STANDARD
BEGIN:DAYLIGHT
TZOFFSETFROM:-0500
TZOFFSETTO:-0400
TZNAME:EDT
DTSTART:20260308T070000
END:DAYLIGHT
BEGIN:STANDARD
TZOFFSETFROM:-0400
TZOFFSETTO:-0500
TZNAME:EST
DTSTART:20261101T060000
END:STANDARD
END:VTIMEZONE
BEGIN:VEVENT
DTSTART;VALUE=DATE:20260207
DTEND;VALUE=DATE:20260208
DTSTAMP:20260419T120133
CREATED:20250923T215825Z
LAST-MODIFIED:20250923T220832Z
UID:17980-1770422400-1770508799@scboston.org
SUMMARY:Ice Chips Rehearsals
DESCRIPTION:
URL:https://scboston.org/event/ice-chips-rehearsals-5/2026-02-07/
CATEGORIES:Club Calendar
END:VEVENT
BEGIN:VEVENT
DTSTART;VALUE=DATE:20260124
DTEND;VALUE=DATE:20260125
DTSTAMP:20260419T120133
CREATED:20250923T215825Z
LAST-MODIFIED:20250923T220832Z
UID:17979-1769212800-1769299199@scboston.org
SUMMARY:Ice Chips Rehearsals
DESCRIPTION:
URL:https://scboston.org/event/ice-chips-rehearsals-5/2026-01-24/
CATEGORIES:Club Calendar
END:VEVENT
BEGIN:VEVENT
DTSTART;VALUE=DATE:20260110
DTEND;VALUE=DATE:20260111
DTSTAMP:20260419T120133
CREATED:20250923T215825Z
LAST-MODIFIED:20250923T220831Z
UID:17978-1768003200-1768089599@scboston.org
SUMMARY:Ice Chips Rehearsals
DESCRIPTION:
URL:https://scboston.org/event/ice-chips-rehearsals-5/2026-01-10/
CATEGORIES:Club Calendar
END:VEVENT
BEGIN:VEVENT
DTSTART;VALUE=DATE:20251220
DTEND;VALUE=DATE:20251221
DTSTAMP:20260419T120133
CREATED:20250923T215825Z
LAST-MODIFIED:20250923T220831Z
UID:17977-1766188800-1766275199@scboston.org
SUMMARY:Ice Chips Rehearsals
DESCRIPTION:
URL:https://scboston.org/event/ice-chips-rehearsals-5/2025-12-20/
CATEGORIES:Club Calendar
END:VEVENT
END:VCALENDAR