BEGIN:VCALENDAR
VERSION:2.0
PRODID:-//The Skating Club of Boston - ECPv6.7.0//NONSGML v1.0//EN
CALSCALE:GREGORIAN
METHOD:PUBLISH
X-WR-CALNAME:The Skating Club of Boston
X-ORIGINAL-URL:https://scboston.org
X-WR-CALDESC:Events for The Skating Club of Boston
REFRESH-INTERVAL;VALUE=DURATION:PT1H
X-Robots-Tag:noindex
X-PUBLISHED-TTL:PT1H
BEGIN:VTIMEZONE
TZID:UTC
BEGIN:STANDARD
TZOFFSETFROM:+0000
TZOFFSETTO:+0000
TZNAME:UTC
DTSTART:20220101T000000
END:STANDARD
END:VTIMEZONE
BEGIN:VEVENT
DTSTART;VALUE=DATE:20220619
DTEND;VALUE=DATE:20220620
DTSTAMP:20260420T091845
CREATED:20210715T015259Z
LAST-MODIFIED:20210715T015403Z
UID:13260-1655596800-1655683199@scboston.org
SUMMARY:Father's Day
DESCRIPTION:
URL:https://scboston.org/event/fathers-day-2/
CATEGORIES:Club Calendar
END:VEVENT
BEGIN:VEVENT
DTSTART;VALUE=DATE:20220619
DTEND;VALUE=DATE:20220620
DTSTAMP:20260420T091845
CREATED:20210715T015320Z
LAST-MODIFIED:20210715T015355Z
UID:13261-1655596800-1655683199@scboston.org
SUMMARY:Juneteenth
DESCRIPTION:
URL:https://scboston.org/event/juneteenth/
CATEGORIES:Club Calendar
END:VEVENT
END:VCALENDAR