BEGIN:VCALENDAR
VERSION:2.0
PRODID:-//The Skating Club of Boston - ECPv6.7.0//NONSGML v1.0//EN
CALSCALE:GREGORIAN
METHOD:PUBLISH
X-ORIGINAL-URL:https://scboston.org
X-WR-CALDESC:Events for The Skating Club of Boston
REFRESH-INTERVAL;VALUE=DURATION:PT1H
X-Robots-Tag:noindex
X-PUBLISHED-TTL:PT1H
BEGIN:VTIMEZONE
TZID:America/New_York
BEGIN:DAYLIGHT
TZOFFSETFROM:-0500
TZOFFSETTO:-0400
TZNAME:EDT
DTSTART:20260308T070000
END:DAYLIGHT
BEGIN:STANDARD
TZOFFSETFROM:-0400
TZOFFSETTO:-0500
TZNAME:EST
DTSTART:20261101T060000
END:STANDARD
END:VTIMEZONE
BEGIN:VEVENT
DTSTART;VALUE=DATE:20260104
DTEND;VALUE=DATE:20260112
DTSTAMP:20260425T104224
CREATED:20250522T051854Z
LAST-MODIFIED:20250522T051854Z
UID:17537-1767484800-1768175999@scboston.org
SUMMARY:2026 Prevagen U.S. Figure Skating Championships - St. Louis\, Missouri
DESCRIPTION:
URL:https://scboston.org/event/2026-prevagen-u-s-figure-skating-championships-st-louis-missouri/
CATEGORIES:Club Calendar
END:VEVENT
BEGIN:VEVENT
DTSTART;VALUE=DATE:20260110
DTEND;VALUE=DATE:20260111
DTSTAMP:20260425T104224
CREATED:20250923T215825Z
LAST-MODIFIED:20250923T220831Z
UID:17978-1768003200-1768089599@scboston.org
SUMMARY:Ice Chips Rehearsals
DESCRIPTION:
URL:https://scboston.org/event/ice-chips-rehearsals-5/2026-01-10/
CATEGORIES:Club Calendar
END:VEVENT
BEGIN:VEVENT
DTSTART;TZID=America/New_York:20260110T190000
DTEND;TZID=America/New_York:20260110T220000
DTSTAMP:20260425T104224
CREATED:20260104T022040Z
LAST-MODIFIED:20260104T022041Z
UID:18148-1768071600-1768082400@scboston.org
SUMMARY:U.S. Championships Watch Party at Castle Island Brewing
DESCRIPTION:On Saturday\, January 10th\, join us at Castle Island Brewing Co. from 7:00 to 10:00 PM to cheer on Norwood Olympic hopefuls competing in the 2026 Prevagen U.S. Figure Skating Championships. Castle Island will donate a portion of taproom and carryout sales of Five Ringer\, a limited-edition hazy IPA\, to the Always Champions campaign.
URL:https://scboston.org/event/u-s-championships-watch-party-at-castle-island-brewing/
CATEGORIES:Club Calendar,Events,Featured,Member Events
END:VEVENT
END:VCALENDAR