BEGIN:VCALENDAR
VERSION:2.0
PRODID:-//The Skating Club of Boston - ECPv6.7.0//NONSGML v1.0//EN
CALSCALE:GREGORIAN
METHOD:PUBLISH
X-WR-CALNAME:The Skating Club of Boston
X-ORIGINAL-URL:https://scboston.org
X-WR-CALDESC:Events for The Skating Club of Boston
REFRESH-INTERVAL;VALUE=DURATION:PT1H
X-Robots-Tag:noindex
X-PUBLISHED-TTL:PT1H
BEGIN:VTIMEZONE
TZID:America/New_York
BEGIN:DAYLIGHT
TZOFFSETFROM:-0500
TZOFFSETTO:-0400
TZNAME:EDT
DTSTART:20260308T070000
END:DAYLIGHT
BEGIN:STANDARD
TZOFFSETFROM:-0400
TZOFFSETTO:-0500
TZNAME:EST
DTSTART:20261101T060000
END:STANDARD
END:VTIMEZONE
BEGIN:VEVENT
DTSTART;VALUE=DATE:20260304
DTEND;VALUE=DATE:20260308
DTSTAMP:20260419T134008
CREATED:20260309T184415Z
LAST-MODIFIED:20260309T184416Z
UID:18287-1772582400-1772927999@scboston.org
SUMMARY:2026 U.S. Synchronized Skating Championships - West Valley City\, Utah
DESCRIPTION:
URL:https://scboston.org/event/2026-u-s-synchronized-skating-championships-west-valley-city-utah/
CATEGORIES:Club Calendar
END:VEVENT
BEGIN:VEVENT
DTSTART;TZID=America/New_York:20260306T203000
DTEND;TZID=America/New_York:20260306T220000
DTSTAMP:20260419T134008
CREATED:20250929T162636Z
LAST-MODIFIED:20250929T162636Z
UID:18010-1772829000-1772834400@scboston.org
SUMMARY:Social Ice Dancing
DESCRIPTION:
URL:https://scboston.org/event/social-ice-dancing/2026-03-06/
CATEGORIES:Club Calendar,Events,Ice Dance Events,Member Events,Public Events,Seminars and Workshops
END:VEVENT
END:VCALENDAR