BEGIN:VCALENDAR
VERSION:2.0
PRODID:-//The Skating Club of Boston - ECPv6.7.0//NONSGML v1.0//EN
CALSCALE:GREGORIAN
METHOD:PUBLISH
X-WR-CALNAME:The Skating Club of Boston
X-ORIGINAL-URL:https://scboston.org
X-WR-CALDESC:Events for The Skating Club of Boston
REFRESH-INTERVAL;VALUE=DURATION:PT1H
X-Robots-Tag:noindex
X-PUBLISHED-TTL:PT1H
BEGIN:VTIMEZONE
TZID:America/New_York
BEGIN:DAYLIGHT
TZOFFSETFROM:-0500
TZOFFSETTO:-0400
TZNAME:EDT
DTSTART:20260308T070000
END:DAYLIGHT
BEGIN:STANDARD
TZOFFSETFROM:-0400
TZOFFSETTO:-0500
TZNAME:EST
DTSTART:20261101T060000
END:STANDARD
END:VTIMEZONE
BEGIN:VEVENT
DTSTART;VALUE=DATE:20260324
DTEND;VALUE=DATE:20260330
DTSTAMP:20260419T153139
CREATED:20250918T024736Z
LAST-MODIFIED:20250918T024736Z
UID:17897-1774310400-1774828799@scboston.org
SUMMARY:ISU World Figure Skating Championships 2026 - Prague\, Czech Republic
DESCRIPTION:
URL:https://scboston.org/event/isu-world-figure-skating-championships-2026-prague-czech-republic/
CATEGORIES:Club Calendar
END:VEVENT
END:VCALENDAR