BEGIN:VCALENDAR
VERSION:2.0
PRODID:-//The Skating Club of Boston - ECPv6.7.0//NONSGML v1.0//EN
CALSCALE:GREGORIAN
METHOD:PUBLISH
X-ORIGINAL-URL:https://scboston.org
X-WR-CALDESC:Events for The Skating Club of Boston
REFRESH-INTERVAL;VALUE=DURATION:PT1H
X-Robots-Tag:noindex
X-PUBLISHED-TTL:PT1H
BEGIN:VTIMEZONE
TZID:America/New_York
BEGIN:DAYLIGHT
TZOFFSETFROM:-0500
TZOFFSETTO:-0400
TZNAME:EDT
DTSTART:20250309T070000
END:DAYLIGHT
BEGIN:STANDARD
TZOFFSETFROM:-0400
TZOFFSETTO:-0500
TZNAME:EST
DTSTART:20251102T060000
END:STANDARD
BEGIN:DAYLIGHT
TZOFFSETFROM:-0500
TZOFFSETTO:-0400
TZNAME:EDT
DTSTART:20260308T070000
END:DAYLIGHT
BEGIN:STANDARD
TZOFFSETFROM:-0400
TZOFFSETTO:-0500
TZNAME:EST
DTSTART:20261101T060000
END:STANDARD
END:VTIMEZONE
BEGIN:VEVENT
DTSTART;TZID=America/New_York:20251025T000000
DTEND;TZID=America/New_York:20251025T235900
DTSTAMP:20260420T222137
CREATED:20251004T182949Z
LAST-MODIFIED:20251004T182949Z
UID:18025-1761350400-1761436740@scboston.org
SUMMARY:Violet Ice Classic
DESCRIPTION:
URL:https://scboston.org/event/violet-ice-classic/2025-10-25/
CATEGORIES:Club Calendar,Competitions,Events,Public Events
ATTACH;FMTTYPE=image/jpeg:https://scboston.org/wp-content/uploads/2025/10/image.jpeg
END:VEVENT
BEGIN:VEVENT
DTSTART;TZID=America/New_York:20251026T000000
DTEND;TZID=America/New_York:20251026T235900
DTSTAMP:20260420T222137
CREATED:20251004T182949Z
LAST-MODIFIED:20251004T182949Z
UID:18026-1761436800-1761523140@scboston.org
SUMMARY:Violet Ice Classic
DESCRIPTION:
URL:https://scboston.org/event/violet-ice-classic/2025-10-26/
CATEGORIES:Club Calendar,Competitions,Events,Public Events
ATTACH;FMTTYPE=image/jpeg:https://scboston.org/wp-content/uploads/2025/10/image.jpeg
END:VEVENT
BEGIN:VEVENT
DTSTART;VALUE=DATE:20251110
DTEND;VALUE=DATE:20251117
DTSTAMP:20260420T222137
CREATED:20250915T031614Z
LAST-MODIFIED:20250915T031614Z
UID:17861-1762732800-1763337599@scboston.org
SUMMARY:2026 Eastern Sectional Singles Final - North Charleston\, South Carolina
DESCRIPTION:
URL:https://scboston.org/event/2026-eastern-sectional-singles-final-north-charleston-south-carolina/
CATEGORIES:Club Calendar,Competitions
END:VEVENT
BEGIN:VEVENT
DTSTART;TZID=America/New_York:20251121T000000
DTEND;TZID=America/New_York:20251121T235900
DTSTAMP:20260420T222137
CREATED:20250619T194000Z
LAST-MODIFIED:20250902T191252Z
UID:17620-1763683200-1763769540@scboston.org
SUMMARY:2025 Boston Synchronized Skating Classic
DESCRIPTION:
URL:https://scboston.org/event/2025-boston-synchronized-skating-classic/2025-11-21/
CATEGORIES:Club Calendar,Competitions,Events,Member Events,Public Events
ATTACH;FMTTYPE=image/jpeg:https://scboston.org/wp-content/uploads/2025/06/IMG_9275-630x497-1.jpeg
END:VEVENT
BEGIN:VEVENT
DTSTART;TZID=America/New_York:20251122T000000
DTEND;TZID=America/New_York:20251122T235900
DTSTAMP:20260420T222137
CREATED:20250619T194000Z
LAST-MODIFIED:20250902T191252Z
UID:17623-1763769600-1763855940@scboston.org
SUMMARY:2025 Boston Synchronized Skating Classic
DESCRIPTION:
URL:https://scboston.org/event/2025-boston-synchronized-skating-classic/2025-11-22/
CATEGORIES:Club Calendar,Competitions,Events,Member Events,Public Events
ATTACH;FMTTYPE=image/jpeg:https://scboston.org/wp-content/uploads/2025/06/IMG_9275-630x497-1.jpeg
END:VEVENT
BEGIN:VEVENT
DTSTART;TZID=America/New_York:20251123T000000
DTEND;TZID=America/New_York:20251123T235900
DTSTAMP:20260420T222137
CREATED:20250619T194000Z
LAST-MODIFIED:20250902T191252Z
UID:17624-1763856000-1763942340@scboston.org
SUMMARY:2025 Boston Synchronized Skating Classic
DESCRIPTION:
URL:https://scboston.org/event/2025-boston-synchronized-skating-classic/2025-11-23/
CATEGORIES:Club Calendar,Competitions,Events,Member Events,Public Events
ATTACH;FMTTYPE=image/jpeg:https://scboston.org/wp-content/uploads/2025/06/IMG_9275-630x497-1.jpeg
END:VEVENT
BEGIN:VEVENT
DTSTART;TZID=America/New_York:20251212T000000
DTEND;TZID=America/New_York:20251212T235900
DTSTAMP:20260420T222137
CREATED:20250929T161745Z
LAST-MODIFIED:20250929T161926Z
UID:18001-1765497600-1765583940@scboston.org
SUMMARY:2025 New England Synchronized Skating Open
DESCRIPTION:
URL:https://scboston.org/event/2025-new-england-synchronized-skating-open/2025-12-12/
CATEGORIES:Club Calendar,Competitions,Events,Member Events,Public Events
ATTACH;FMTTYPE=image/png:https://scboston.org/wp-content/uploads/2025/09/2025_FINAL_New-Englad-Synchro-Logo_23-01-2.png
END:VEVENT
BEGIN:VEVENT
DTSTART;TZID=America/New_York:20251213T000000
DTEND;TZID=America/New_York:20251213T235900
DTSTAMP:20260420T222137
CREATED:20250929T161745Z
LAST-MODIFIED:20250929T161745Z
UID:18002-1765584000-1765670340@scboston.org
SUMMARY:2025 New England Synchronized Skating Open
DESCRIPTION:
URL:https://scboston.org/event/2025-new-england-synchronized-skating-open/2025-12-13/
CATEGORIES:Club Calendar,Competitions,Events,Member Events,Public Events
ATTACH;FMTTYPE=image/png:https://scboston.org/wp-content/uploads/2025/09/2025_FINAL_New-Englad-Synchro-Logo_23-01-2.png
END:VEVENT
BEGIN:VEVENT
DTSTART;TZID=America/New_York:20251214T000000
DTEND;TZID=America/New_York:20251214T235900
DTSTAMP:20260420T222137
CREATED:20250929T161745Z
LAST-MODIFIED:20250929T161745Z
UID:18003-1765670400-1765756740@scboston.org
SUMMARY:2025 New England Synchronized Skating Open
DESCRIPTION:
URL:https://scboston.org/event/2025-new-england-synchronized-skating-open/2025-12-14/
CATEGORIES:Club Calendar,Competitions,Events,Member Events,Public Events
ATTACH;FMTTYPE=image/png:https://scboston.org/wp-content/uploads/2025/09/2025_FINAL_New-Englad-Synchro-Logo_23-01-2.png
END:VEVENT
BEGIN:VEVENT
DTSTART;TZID=America/New_York:20260112T000000
DTEND;TZID=America/New_York:20260112T235900
DTSTAMP:20260420T222137
CREATED:20250915T030408Z
LAST-MODIFIED:20250915T031530Z
UID:17870-1768176000-1768262340@scboston.org
SUMMARY:2026 Eastern Synchronized Skating Sectional Championships - Norwood\, MA
DESCRIPTION:
URL:https://scboston.org/event/2026-eastern-synchronized-skating-sectional-championships/2026-01-12/
CATEGORIES:Club Calendar,Competitions,Public Events
ATTACH;FMTTYPE=image/png:https://scboston.org/wp-content/uploads/2025/09/image.png
END:VEVENT
BEGIN:VEVENT
DTSTART;TZID=America/New_York:20260113T000000
DTEND;TZID=America/New_York:20260113T235900
DTSTAMP:20260420T222137
CREATED:20250915T030408Z
LAST-MODIFIED:20250915T031531Z
UID:17877-1768262400-1768348740@scboston.org
SUMMARY:2026 Eastern Synchronized Skating Sectional Championships - Norwood\, MA
DESCRIPTION:
URL:https://scboston.org/event/2026-eastern-synchronized-skating-sectional-championships/2026-01-13/
CATEGORIES:Club Calendar,Competitions,Public Events
ATTACH;FMTTYPE=image/png:https://scboston.org/wp-content/uploads/2025/09/image.png
END:VEVENT
BEGIN:VEVENT
DTSTART;TZID=America/New_York:20260114T000000
DTEND;TZID=America/New_York:20260114T235900
DTSTAMP:20260420T222137
CREATED:20250915T030408Z
LAST-MODIFIED:20250915T031531Z
UID:17878-1768348800-1768435140@scboston.org
SUMMARY:2026 Eastern Synchronized Skating Sectional Championships - Norwood\, MA
DESCRIPTION:
URL:https://scboston.org/event/2026-eastern-synchronized-skating-sectional-championships/2026-01-14/
CATEGORIES:Club Calendar,Competitions,Public Events
ATTACH;FMTTYPE=image/png:https://scboston.org/wp-content/uploads/2025/09/image.png
END:VEVENT
BEGIN:VEVENT
DTSTART;TZID=America/New_York:20260115T000000
DTEND;TZID=America/New_York:20260115T235900
DTSTAMP:20260420T222137
CREATED:20250915T030408Z
LAST-MODIFIED:20250915T031532Z
UID:17879-1768435200-1768521540@scboston.org
SUMMARY:2026 Eastern Synchronized Skating Sectional Championships - Norwood\, MA
DESCRIPTION:
URL:https://scboston.org/event/2026-eastern-synchronized-skating-sectional-championships/2026-01-15/
CATEGORIES:Club Calendar,Competitions,Public Events
ATTACH;FMTTYPE=image/png:https://scboston.org/wp-content/uploads/2025/09/image.png
END:VEVENT
BEGIN:VEVENT
DTSTART;TZID=America/New_York:20260116T000000
DTEND;TZID=America/New_York:20260116T235900
DTSTAMP:20260420T222137
CREATED:20250915T030408Z
LAST-MODIFIED:20250915T031532Z
UID:17880-1768521600-1768607940@scboston.org
SUMMARY:2026 Eastern Synchronized Skating Sectional Championships - Norwood\, MA
DESCRIPTION:
URL:https://scboston.org/event/2026-eastern-synchronized-skating-sectional-championships/2026-01-16/
CATEGORIES:Club Calendar,Competitions,Public Events
ATTACH;FMTTYPE=image/png:https://scboston.org/wp-content/uploads/2025/09/image.png
END:VEVENT
BEGIN:VEVENT
DTSTART;TZID=America/New_York:20260117T000000
DTEND;TZID=America/New_York:20260117T235900
DTSTAMP:20260420T222137
CREATED:20250915T030408Z
LAST-MODIFIED:20250915T031533Z
UID:17881-1768608000-1768694340@scboston.org
SUMMARY:2026 Eastern Synchronized Skating Sectional Championships - Norwood\, MA
DESCRIPTION:
URL:https://scboston.org/event/2026-eastern-synchronized-skating-sectional-championships/2026-01-17/
CATEGORIES:Club Calendar,Competitions,Public Events
ATTACH;FMTTYPE=image/png:https://scboston.org/wp-content/uploads/2025/09/image.png
END:VEVENT
BEGIN:VEVENT
DTSTART;TZID=America/New_York:20260118T000000
DTEND;TZID=America/New_York:20260118T235900
DTSTAMP:20260420T222137
CREATED:20250915T030408Z
LAST-MODIFIED:20250915T031533Z
UID:17882-1768694400-1768780740@scboston.org
SUMMARY:2026 Eastern Synchronized Skating Sectional Championships - Norwood\, MA
DESCRIPTION:
URL:https://scboston.org/event/2026-eastern-synchronized-skating-sectional-championships/2026-01-18/
CATEGORIES:Club Calendar,Competitions,Public Events
ATTACH;FMTTYPE=image/png:https://scboston.org/wp-content/uploads/2025/09/image.png
END:VEVENT
BEGIN:VEVENT
DTSTART;TZID=America/New_York:20260129T000000
DTEND;TZID=America/New_York:20260129T235900
DTSTAMP:20260420T222137
CREATED:20250902T193658Z
LAST-MODIFIED:20250902T193758Z
UID:17833-1769644800-1769731140@scboston.org
SUMMARY:2026 U.S. Synchronized International Classic
DESCRIPTION:
URL:https://scboston.org/event/2026-u-s-synchronized-international-classic/2026-01-29/
CATEGORIES:Club Calendar,Competitions,Events,Public Events
ATTACH;FMTTYPE=image/jpeg:https://scboston.org/wp-content/uploads/2025/09/25_US_SyS_Intl_Classic_Annoucement_FINAL.jpg
END:VEVENT
BEGIN:VEVENT
DTSTART;TZID=America/New_York:20260130T000000
DTEND;TZID=America/New_York:20260130T235900
DTSTAMP:20260420T222137
CREATED:20250902T193658Z
LAST-MODIFIED:20250902T193758Z
UID:17836-1769731200-1769817540@scboston.org
SUMMARY:2026 U.S. Synchronized International Classic
DESCRIPTION:
URL:https://scboston.org/event/2026-u-s-synchronized-international-classic/2026-01-30/
CATEGORIES:Club Calendar,Competitions,Events,Public Events
ATTACH;FMTTYPE=image/jpeg:https://scboston.org/wp-content/uploads/2025/09/25_US_SyS_Intl_Classic_Annoucement_FINAL.jpg
END:VEVENT
BEGIN:VEVENT
DTSTART;TZID=America/New_York:20260131T000000
DTEND;TZID=America/New_York:20260131T235900
DTSTAMP:20260420T222137
CREATED:20250902T193658Z
LAST-MODIFIED:20250902T193758Z
UID:17837-1769817600-1769903940@scboston.org
SUMMARY:2026 U.S. Synchronized International Classic
DESCRIPTION:
URL:https://scboston.org/event/2026-u-s-synchronized-international-classic/2026-01-31/
CATEGORIES:Club Calendar,Competitions,Events,Public Events
ATTACH;FMTTYPE=image/jpeg:https://scboston.org/wp-content/uploads/2025/09/25_US_SyS_Intl_Classic_Annoucement_FINAL.jpg
END:VEVENT
BEGIN:VEVENT
DTSTART;TZID=America/New_York:20260131T000000
DTEND;TZID=America/New_York:20260131T235900
DTSTAMP:20260420T222137
CREATED:20251210T165547Z
LAST-MODIFIED:20251210T172314Z
UID:18125-1769817600-1769903940@scboston.org
SUMMARY:2026 Compete USA (Synchro)
DESCRIPTION:
URL:https://scboston.org/event/compete-usa-synchro/
CATEGORIES:Club Calendar,Competitions,Events,Public Events
ATTACH;FMTTYPE=image/jpeg:https://scboston.org/wp-content/uploads/2025/01/Compete-USA-Boston-6.jpg
END:VEVENT
BEGIN:VEVENT
DTSTART;TZID=America/New_York:20260201T000000
DTEND;TZID=America/New_York:20260201T235900
DTSTAMP:20260420T222137
CREATED:20251210T165817Z
LAST-MODIFIED:20251210T172306Z
UID:18128-1769904000-1769990340@scboston.org
SUMMARY:2026 Compete USA (Singles)
DESCRIPTION:
URL:https://scboston.org/event/compete-usa-singles/
CATEGORIES:Club Calendar,Competitions,Events,Public Events
ATTACH;FMTTYPE=image/jpeg:https://scboston.org/wp-content/uploads/2025/01/Compete-USA-Boston-6.jpg
END:VEVENT
BEGIN:VEVENT
DTSTART;TZID=America/New_York:20260213T000000
DTEND;TZID=America/New_York:20260213T235900
DTSTAMP:20260420T222137
CREATED:20251210T170904Z
LAST-MODIFIED:20260209T210428Z
UID:18129-1770940800-1771027140@scboston.org
SUMMARY:2026 Boston Adult Classic
DESCRIPTION:
URL:https://scboston.org/event/boston-adult-classic/2026-02-13/
CATEGORIES:Club Calendar,Competitions,Events,Public Events
ATTACH;FMTTYPE=image/png:https://scboston.org/wp-content/uploads/2025/11/Boston-Adult-Classic_200-x-200_Vector-without-year-e1765387971707.png
END:VEVENT
BEGIN:VEVENT
DTSTART;TZID=America/New_York:20260214T000000
DTEND;TZID=America/New_York:20260214T235900
DTSTAMP:20260420T222137
CREATED:20251210T170904Z
LAST-MODIFIED:20251210T170904Z
UID:18217-1771027200-1771113540@scboston.org
SUMMARY:2026 Boston Adult Classic
DESCRIPTION:
URL:https://scboston.org/event/boston-adult-classic/2026-02-14/
CATEGORIES:Club Calendar,Competitions,Events,Public Events
ATTACH;FMTTYPE=image/png:https://scboston.org/wp-content/uploads/2025/11/Boston-Adult-Classic_200-x-200_Vector-without-year-e1765387971707.png
END:VEVENT
BEGIN:VEVENT
DTSTART;TZID=America/New_York:20260215T000000
DTEND;TZID=America/New_York:20260215T235900
DTSTAMP:20260420T222137
CREATED:20251210T170904Z
LAST-MODIFIED:20251210T170904Z
UID:18218-1771113600-1771199940@scboston.org
SUMMARY:2026 Boston Adult Classic
DESCRIPTION:
URL:https://scboston.org/event/boston-adult-classic/2026-02-15/
CATEGORIES:Club Calendar,Competitions,Events,Public Events
ATTACH;FMTTYPE=image/png:https://scboston.org/wp-content/uploads/2025/11/Boston-Adult-Classic_200-x-200_Vector-without-year-e1765387971707.png
END:VEVENT
BEGIN:VEVENT
DTSTART;TZID=America/New_York:20260215T180000
DTEND;TZID=America/New_York:20260215T200000
DTSTAMP:20260420T222137
CREATED:20260209T210639Z
LAST-MODIFIED:20260209T210639Z
UID:18220-1771178400-1771185600@scboston.org
SUMMARY:2026 Excelebration
DESCRIPTION:
URL:https://scboston.org/event/2026-excelebration/
CATEGORIES:Club Calendar,Competitions,Dinners and Send-Offs,Events,Member Events
ATTACH;FMTTYPE=image/jpeg:https://scboston.org/wp-content/uploads/2018/01/team-excel.jpg
END:VEVENT
BEGIN:VEVENT
DTSTART;TZID=America/New_York:20260313T000000
DTEND;TZID=America/New_York:20260313T235900
DTSTAMP:20260420T222137
CREATED:20260303T211031Z
LAST-MODIFIED:20260303T211704Z
UID:18248-1773360000-1773446340@scboston.org
SUMMARY:Boston Open Spring
DESCRIPTION:
URL:https://scboston.org/event/boston-open-spring/2026-03-13/
CATEGORIES:Club Calendar,Competitions,Events,Member Events,Public Events
ATTACH;FMTTYPE=image/png:https://scboston.org/wp-content/uploads/2020/07/Boston-Open-Logo-e1626119192191.png
END:VEVENT
BEGIN:VEVENT
DTSTART;TZID=America/New_York:20260314T000000
DTEND;TZID=America/New_York:20260314T235900
DTSTAMP:20260420T222137
CREATED:20260303T211031Z
LAST-MODIFIED:20260303T211705Z
UID:18258-1773446400-1773532740@scboston.org
SUMMARY:Boston Open Spring
DESCRIPTION:
URL:https://scboston.org/event/boston-open-spring/2026-03-14/
CATEGORIES:Club Calendar,Competitions,Events,Member Events,Public Events
ATTACH;FMTTYPE=image/png:https://scboston.org/wp-content/uploads/2020/07/Boston-Open-Logo-e1626119192191.png
END:VEVENT
BEGIN:VEVENT
DTSTART;TZID=America/New_York:20260315T000000
DTEND;TZID=America/New_York:20260315T235900
DTSTAMP:20260420T222137
CREATED:20260303T211031Z
LAST-MODIFIED:20260303T211705Z
UID:18259-1773532800-1773619140@scboston.org
SUMMARY:Boston Open Spring
DESCRIPTION:
URL:https://scboston.org/event/boston-open-spring/2026-03-15/
CATEGORIES:Club Calendar,Competitions,Events,Member Events,Public Events
ATTACH;FMTTYPE=image/png:https://scboston.org/wp-content/uploads/2020/07/Boston-Open-Logo-e1626119192191.png
END:VEVENT
BEGIN:VEVENT
DTSTART;TZID=America/New_York:20260320T000000
DTEND;TZID=America/New_York:20260320T235900
DTSTAMP:20260420T222137
CREATED:20260306T230007Z
LAST-MODIFIED:20260313T063532Z
UID:18280-1773964800-1774051140@scboston.org
SUMMARY:2026 U.S. Age Group National Championships Short Track
DESCRIPTION:
URL:https://scboston.org/event/2026-u-s-age-group-national-championships-short-track/2026-03-20/
CATEGORIES:Club Calendar,Competitions,Events,Public Events
ATTACH;FMTTYPE=image/png:https://scboston.org/wp-content/uploads/2026/03/image-1.png
END:VEVENT
BEGIN:VEVENT
DTSTART;TZID=America/New_York:20260321T000000
DTEND;TZID=America/New_York:20260321T235900
DTSTAMP:20260420T222137
CREATED:20260306T230007Z
LAST-MODIFIED:20260313T063533Z
UID:18283-1774051200-1774137540@scboston.org
SUMMARY:2026 U.S. Age Group National Championships Short Track
DESCRIPTION:
URL:https://scboston.org/event/2026-u-s-age-group-national-championships-short-track/2026-03-21/
CATEGORIES:Club Calendar,Competitions,Events,Public Events
ATTACH;FMTTYPE=image/png:https://scboston.org/wp-content/uploads/2026/03/image-1.png
END:VEVENT
END:VCALENDAR