BEGIN:VCALENDAR
VERSION:2.0
PRODID:-//The Skating Club of Boston - ECPv6.7.0//NONSGML v1.0//EN
CALSCALE:GREGORIAN
METHOD:PUBLISH
X-WR-CALNAME:The Skating Club of Boston
X-ORIGINAL-URL:https://scboston.org
X-WR-CALDESC:Events for The Skating Club of Boston
REFRESH-INTERVAL;VALUE=DURATION:PT1H
X-Robots-Tag:noindex
X-PUBLISHED-TTL:PT1H
BEGIN:VTIMEZONE
TZID:UTC
BEGIN:STANDARD
TZOFFSETFROM:+0000
TZOFFSETTO:+0000
TZNAME:UTC
DTSTART:20230101T000000
END:STANDARD
END:VTIMEZONE
BEGIN:VEVENT
DTSTART;TZID=UTC:20230408T130000
DTEND;TZID=UTC:20230408T130000
DTSTAMP:20260420T204725
CREATED:20221212T230826Z
LAST-MODIFIED:20221212T230826Z
UID:15188-1680958800-1680958800@scboston.org
SUMMARY:Ice Chips 2023: Full Throttle
DESCRIPTION:
URL:https://scboston.org/event/ice-chips-2023-full-throttle-2/
CATEGORIES:Club Calendar,Events,Featured,Public Events
ATTACH;FMTTYPE=image/png:https://scboston.org/wp-content/uploads/2022/10/Ice-Chips-2023-Visual-1920-x-1080.png
END:VEVENT
BEGIN:VEVENT
DTSTART;TZID=UTC:20230408T190000
DTEND;TZID=UTC:20230408T190000
DTSTAMP:20260420T204725
CREATED:20221212T230922Z
LAST-MODIFIED:20221212T230922Z
UID:15189-1680980400-1680980400@scboston.org
SUMMARY:Ice Chips 2023: Full Throttle
DESCRIPTION:
URL:https://scboston.org/event/ice-chips-2023-full-throttle-3/
CATEGORIES:Club Calendar,Events,Featured,Public Events
ATTACH;FMTTYPE=image/png:https://scboston.org/wp-content/uploads/2022/10/Ice-Chips-2023-Visual-1920-x-1080.png
END:VEVENT
END:VCALENDAR