BEGIN:VCALENDAR
VERSION:2.0
PRODID:-//The Skating Club of Boston - ECPv6.7.0//NONSGML v1.0//EN
CALSCALE:GREGORIAN
METHOD:PUBLISH
X-WR-CALNAME:The Skating Club of Boston
X-ORIGINAL-URL:https://scboston.org
X-WR-CALDESC:Events for The Skating Club of Boston
REFRESH-INTERVAL;VALUE=DURATION:PT1H
X-Robots-Tag:noindex
X-PUBLISHED-TTL:PT1H
BEGIN:VTIMEZONE
TZID:America/New_York
BEGIN:DAYLIGHT
TZOFFSETFROM:-0500
TZOFFSETTO:-0400
TZNAME:EDT
DTSTART:20260308T070000
END:DAYLIGHT
BEGIN:STANDARD
TZOFFSETFROM:-0400
TZOFFSETTO:-0500
TZNAME:EST
DTSTART:20261101T060000
END:STANDARD
END:VTIMEZONE
BEGIN:VEVENT
DTSTART;TZID=America/New_York:20260206T203000
DTEND;TZID=America/New_York:20260206T220000
DTSTAMP:20260419T133038
CREATED:20250929T162636Z
LAST-MODIFIED:20250929T162636Z
UID:18009-1770409800-1770415200@scboston.org
SUMMARY:Social Ice Dancing
DESCRIPTION:
URL:https://scboston.org/event/social-ice-dancing/2026-02-06/
CATEGORIES:Club Calendar,Events,Ice Dance Events,Member Events,Public Events,Seminars and Workshops
END:VEVENT
BEGIN:VEVENT
DTSTART;TZID=America/New_York:20260213T000000
DTEND;TZID=America/New_York:20260213T235900
DTSTAMP:20260419T133038
CREATED:20251210T170904Z
LAST-MODIFIED:20260209T210428Z
UID:18129-1770940800-1771027140@scboston.org
SUMMARY:2026 Boston Adult Classic
DESCRIPTION:
URL:https://scboston.org/event/boston-adult-classic/2026-02-13/
CATEGORIES:Club Calendar,Competitions,Events,Public Events
ATTACH;FMTTYPE=image/png:https://scboston.org/wp-content/uploads/2025/11/Boston-Adult-Classic_200-x-200_Vector-without-year-e1765387971707.png
END:VEVENT
BEGIN:VEVENT
DTSTART;TZID=America/New_York:20260213T170000
DTEND;TZID=America/New_York:20260213T190000
DTSTAMP:20260419T133038
CREATED:20260204T190401Z
LAST-MODIFIED:20260204T190442Z
UID:18210-1771002000-1771009200@scboston.org
SUMMARY:Milan Watch Party
DESCRIPTION:Come together with fellow Club members to watch the world’s best skaters chase Olympic dreams on the sport’s biggest stage. Cheer on Max Naumov and Sasha Selevko during the men’s free skate\, then revisit standout moments from earlier in the Games with a community who shares your love of skating. \nHave Ice Chips practice that evening? Stop by the Frieling Club Lounge whenever your schedule allows and catch the action. Planning to stay for dinner? The Club’s Hospitality team is accepting additional orders for the evening buffet\, making it easy to relax\, enjoy a great meal\, and watch the skating. \nThe evening will include: \n\nAppearances by Club Olympians\nTrivia and Games\n\n\nNo pre-registration required. Planning to join us for dinner? Pre-order your meal using the button below. Orders close at the end of the day on Thursday\, February 5\, so be sure to reserve yours in advance. If you purchased the Ice Chips hospitality package\, your meal ticket is already included. \nMeal Ticket Purchase\nblank \n\nAnd don’t forget to leave a good luck message for the athletes on the Club’s digital good luck message board! \nGood Luck Board
URL:https://scboston.org/event/milan-watch-party/
LOCATION:The Frieling Club Lounge\, University Avenue\, Norwood\, MA\, 02062\, United States
CATEGORIES:Club Calendar,Dinners and Send-Offs,Events,Featured,Member Events,Public Events
ATTACH;FMTTYPE=image/png:https://scboston.org/wp-content/uploads/2026/01/National-Development-Camp-scaled.png
GEO:42.1976894;-71.1738152
X-APPLE-STRUCTURED-LOCATION;VALUE=URI;X-ADDRESS=The Frieling Club Lounge University Avenue Norwood MA 02062 United States;X-APPLE-RADIUS=500;X-TITLE=University Avenue:geo:-71.1738152,42.1976894
END:VEVENT
BEGIN:VEVENT
DTSTART;TZID=America/New_York:20260214T000000
DTEND;TZID=America/New_York:20260214T235900
DTSTAMP:20260419T133038
CREATED:20251210T170904Z
LAST-MODIFIED:20251210T170904Z
UID:18217-1771027200-1771113540@scboston.org
SUMMARY:2026 Boston Adult Classic
DESCRIPTION:
URL:https://scboston.org/event/boston-adult-classic/2026-02-14/
CATEGORIES:Club Calendar,Competitions,Events,Public Events
ATTACH;FMTTYPE=image/png:https://scboston.org/wp-content/uploads/2025/11/Boston-Adult-Classic_200-x-200_Vector-without-year-e1765387971707.png
END:VEVENT
BEGIN:VEVENT
DTSTART;TZID=America/New_York:20260215T000000
DTEND;TZID=America/New_York:20260215T235900
DTSTAMP:20260419T133038
CREATED:20251210T170904Z
LAST-MODIFIED:20251210T170904Z
UID:18218-1771113600-1771199940@scboston.org
SUMMARY:2026 Boston Adult Classic
DESCRIPTION:
URL:https://scboston.org/event/boston-adult-classic/2026-02-15/
CATEGORIES:Club Calendar,Competitions,Events,Public Events
ATTACH;FMTTYPE=image/png:https://scboston.org/wp-content/uploads/2025/11/Boston-Adult-Classic_200-x-200_Vector-without-year-e1765387971707.png
END:VEVENT
BEGIN:VEVENT
DTSTART;TZID=America/New_York:20260228T130000
DTEND;TZID=America/New_York:20260228T160000
DTSTAMP:20260419T133038
CREATED:20250923T220321Z
LAST-MODIFIED:20260123T044453Z
UID:17984-1772283600-1772294400@scboston.org
SUMMARY:Ice Chips 2026: A World Journey
DESCRIPTION:
URL:https://scboston.org/event/ice-chips-2026/
CATEGORIES:Club Calendar,Events,Featured,Member Events,Public Events,Shows and Special Events,Theatrical Skating
ATTACH;FMTTYPE=image/png:https://scboston.org/wp-content/uploads/2025/09/Ice-Chips-A-Worlds-Journey_2025-01-scaled.png
END:VEVENT
BEGIN:VEVENT
DTSTART;TZID=America/New_York:20260228T190000
DTEND;TZID=America/New_York:20260228T220000
DTSTAMP:20260419T133038
CREATED:20260123T044141Z
LAST-MODIFIED:20260123T044622Z
UID:18177-1772305200-1772316000@scboston.org
SUMMARY:Ice Chips 2026: A World Journey
DESCRIPTION:
URL:https://scboston.org/event/ice-chips-2026-a-world-journey/
CATEGORIES:Club Calendar,Events,Featured,Member Events,Public Events,Shows and Special Events,Theatrical Skating
ATTACH;FMTTYPE=image/png:https://scboston.org/wp-content/uploads/2025/09/Ice-Chips-A-Worlds-Journey_2025-01-scaled.png
END:VEVENT
BEGIN:VEVENT
DTSTART;TZID=America/New_York:20260301T130000
DTEND;TZID=America/New_York:20260301T160000
DTSTAMP:20260419T133038
CREATED:20260123T044442Z
LAST-MODIFIED:20260123T044507Z
UID:18178-1772370000-1772380800@scboston.org
SUMMARY:Ice Chips 2026: A World Journey
DESCRIPTION:
URL:https://scboston.org/event/ice-chips-2026-a-world-journey-2/
CATEGORIES:Club Calendar,Events,Featured,Member Events,Public Events,Shows and Special Events,Theatrical Skating
ATTACH;FMTTYPE=image/png:https://scboston.org/wp-content/uploads/2025/09/Ice-Chips-A-Worlds-Journey_2025-01-scaled.png
END:VEVENT
BEGIN:VEVENT
DTSTART;TZID=America/New_York:20260306T203000
DTEND;TZID=America/New_York:20260306T220000
DTSTAMP:20260419T133038
CREATED:20250929T162636Z
LAST-MODIFIED:20250929T162636Z
UID:18010-1772829000-1772834400@scboston.org
SUMMARY:Social Ice Dancing
DESCRIPTION:
URL:https://scboston.org/event/social-ice-dancing/2026-03-06/
CATEGORIES:Club Calendar,Events,Ice Dance Events,Member Events,Public Events,Seminars and Workshops
END:VEVENT
BEGIN:VEVENT
DTSTART;TZID=America/New_York:20260313T000000
DTEND;TZID=America/New_York:20260313T235900
DTSTAMP:20260419T133038
CREATED:20260303T211031Z
LAST-MODIFIED:20260303T211704Z
UID:18248-1773360000-1773446340@scboston.org
SUMMARY:Boston Open Spring
DESCRIPTION:
URL:https://scboston.org/event/boston-open-spring/2026-03-13/
CATEGORIES:Club Calendar,Competitions,Events,Member Events,Public Events
ATTACH;FMTTYPE=image/png:https://scboston.org/wp-content/uploads/2020/07/Boston-Open-Logo-e1626119192191.png
END:VEVENT
BEGIN:VEVENT
DTSTART;TZID=America/New_York:20260314T000000
DTEND;TZID=America/New_York:20260314T235900
DTSTAMP:20260419T133038
CREATED:20260303T211031Z
LAST-MODIFIED:20260303T211705Z
UID:18258-1773446400-1773532740@scboston.org
SUMMARY:Boston Open Spring
DESCRIPTION:
URL:https://scboston.org/event/boston-open-spring/2026-03-14/
CATEGORIES:Club Calendar,Competitions,Events,Member Events,Public Events
ATTACH;FMTTYPE=image/png:https://scboston.org/wp-content/uploads/2020/07/Boston-Open-Logo-e1626119192191.png
END:VEVENT
BEGIN:VEVENT
DTSTART;TZID=America/New_York:20260315T000000
DTEND;TZID=America/New_York:20260315T235900
DTSTAMP:20260419T133038
CREATED:20260303T211031Z
LAST-MODIFIED:20260303T211705Z
UID:18259-1773532800-1773619140@scboston.org
SUMMARY:Boston Open Spring
DESCRIPTION:
URL:https://scboston.org/event/boston-open-spring/2026-03-15/
CATEGORIES:Club Calendar,Competitions,Events,Member Events,Public Events
ATTACH;FMTTYPE=image/png:https://scboston.org/wp-content/uploads/2020/07/Boston-Open-Logo-e1626119192191.png
END:VEVENT
BEGIN:VEVENT
DTSTART;TZID=America/New_York:20260320T000000
DTEND;TZID=America/New_York:20260320T235900
DTSTAMP:20260419T133038
CREATED:20260306T230007Z
LAST-MODIFIED:20260313T063532Z
UID:18280-1773964800-1774051140@scboston.org
SUMMARY:2026 U.S. Age Group National Championships Short Track
DESCRIPTION:
URL:https://scboston.org/event/2026-u-s-age-group-national-championships-short-track/2026-03-20/
CATEGORIES:Club Calendar,Competitions,Events,Public Events
ATTACH;FMTTYPE=image/png:https://scboston.org/wp-content/uploads/2026/03/image-1.png
END:VEVENT
BEGIN:VEVENT
DTSTART;TZID=America/New_York:20260321T000000
DTEND;TZID=America/New_York:20260321T235900
DTSTAMP:20260419T133038
CREATED:20260306T230007Z
LAST-MODIFIED:20260313T063533Z
UID:18283-1774051200-1774137540@scboston.org
SUMMARY:2026 U.S. Age Group National Championships Short Track
DESCRIPTION:
URL:https://scboston.org/event/2026-u-s-age-group-national-championships-short-track/2026-03-21/
CATEGORIES:Club Calendar,Competitions,Events,Public Events
ATTACH;FMTTYPE=image/png:https://scboston.org/wp-content/uploads/2026/03/image-1.png
END:VEVENT
BEGIN:VEVENT
DTSTART;TZID=America/New_York:20260322T000000
DTEND;TZID=America/New_York:20260322T235900
DTSTAMP:20260419T133038
CREATED:20260306T230007Z
LAST-MODIFIED:20260313T063438Z
UID:18284-1774137600-1774223940@scboston.org
SUMMARY:2026 U.S. Age Group National Championships Short Track
DESCRIPTION:
URL:https://scboston.org/event/2026-u-s-age-group-national-championships-short-track-2026-03-22/
CATEGORIES:Club Calendar,Competitions,Events,Public Events
ATTACH;FMTTYPE=image/png:https://scboston.org/wp-content/uploads/2026/03/image-1.png
END:VEVENT
BEGIN:VEVENT
DTSTART;TZID=America/New_York:20260425T180000
DTEND;TZID=America/New_York:20260425T200000
DTSTAMP:20260419T133039
CREATED:20260321T144444Z
LAST-MODIFIED:20260330T210617Z
UID:18327-1777140000-1777147200@scboston.org
SUMMARY:Be Here! Be You!
DESCRIPTION:
URL:https://scboston.org/event/be-here-be-you-2/
CATEGORIES:Club Calendar,Events,Member Events,Public Events,Public Skating,Theatrical Skating
ATTACH;FMTTYPE=application/pdf:https://scboston.org/wp-content/uploads/2026/03/BHBY-v3-W_-Milk.pdf
END:VEVENT
BEGIN:VEVENT
DTSTART;TZID=America/New_York:20260501T203000
DTEND;TZID=America/New_York:20260501T220000
DTSTAMP:20260419T133039
CREATED:20250929T162636Z
LAST-MODIFIED:20250929T162636Z
UID:18011-1777667400-1777672800@scboston.org
SUMMARY:Social Ice Dancing
DESCRIPTION:
URL:https://scboston.org/event/social-ice-dancing/2026-05-01/
CATEGORIES:Club Calendar,Events,Ice Dance Events,Member Events,Public Events,Seminars and Workshops
END:VEVENT
BEGIN:VEVENT
DTSTART;TZID=America/New_York:20260605T203000
DTEND;TZID=America/New_York:20260605T220000
DTSTAMP:20260419T133039
CREATED:20250929T162636Z
LAST-MODIFIED:20250929T162636Z
UID:18012-1780691400-1780696800@scboston.org
SUMMARY:Social Ice Dancing
DESCRIPTION:
URL:https://scboston.org/event/social-ice-dancing/2026-06-05/
CATEGORIES:Club Calendar,Events,Ice Dance Events,Member Events,Public Events,Seminars and Workshops
END:VEVENT
BEGIN:VEVENT
DTSTART;TZID=America/New_York:20260715T000000
DTEND;TZID=America/New_York:20260715T235900
DTSTAMP:20260419T133039
CREATED:20260309T190042Z
LAST-MODIFIED:20260414T222046Z
UID:18296-1784073600-1784159940@scboston.org
SUMMARY:2026 Excel National Festival
DESCRIPTION:
URL:https://scboston.org/event/excel-national-festival/2026-07-15/
CATEGORIES:Club Calendar,Competitions,Events,Public Events
ATTACH;FMTTYPE=image/png:https://scboston.org/wp-content/uploads/2026/04/2026-Excel-National-Festival-Norwood.png
END:VEVENT
BEGIN:VEVENT
DTSTART;TZID=America/New_York:20260716T000000
DTEND;TZID=America/New_York:20260716T235900
DTSTAMP:20260419T133039
CREATED:20260309T190042Z
LAST-MODIFIED:20260414T222046Z
UID:18458-1784160000-1784246340@scboston.org
SUMMARY:2026 Excel National Festival
DESCRIPTION:
URL:https://scboston.org/event/excel-national-festival/2026-07-16/
CATEGORIES:Club Calendar,Competitions,Events,Public Events
ATTACH;FMTTYPE=image/png:https://scboston.org/wp-content/uploads/2026/04/2026-Excel-National-Festival-Norwood.png
END:VEVENT
BEGIN:VEVENT
DTSTART;TZID=America/New_York:20260717T000000
DTEND;TZID=America/New_York:20260717T235900
DTSTAMP:20260419T133039
CREATED:20260309T190042Z
LAST-MODIFIED:20260414T222047Z
UID:18459-1784246400-1784332740@scboston.org
SUMMARY:2026 Excel National Festival
DESCRIPTION:
URL:https://scboston.org/event/excel-national-festival/2026-07-17/
CATEGORIES:Club Calendar,Competitions,Events,Public Events
ATTACH;FMTTYPE=image/png:https://scboston.org/wp-content/uploads/2026/04/2026-Excel-National-Festival-Norwood.png
END:VEVENT
BEGIN:VEVENT
DTSTART;TZID=America/New_York:20260718T000000
DTEND;TZID=America/New_York:20260718T235900
DTSTAMP:20260419T133039
CREATED:20260309T190042Z
LAST-MODIFIED:20260414T222047Z
UID:18460-1784332800-1784419140@scboston.org
SUMMARY:2026 Excel National Festival
DESCRIPTION:
URL:https://scboston.org/event/excel-national-festival/2026-07-18/
CATEGORIES:Club Calendar,Competitions,Events,Public Events
ATTACH;FMTTYPE=image/png:https://scboston.org/wp-content/uploads/2026/04/2026-Excel-National-Festival-Norwood.png
END:VEVENT
BEGIN:VEVENT
DTSTART;TZID=America/New_York:20260719T000000
DTEND;TZID=America/New_York:20260719T235900
DTSTAMP:20260419T133039
CREATED:20260309T190042Z
LAST-MODIFIED:20260414T222048Z
UID:18461-1784419200-1784505540@scboston.org
SUMMARY:2026 Excel National Festival
DESCRIPTION:
URL:https://scboston.org/event/excel-national-festival/2026-07-19/
CATEGORIES:Club Calendar,Competitions,Events,Public Events
ATTACH;FMTTYPE=image/png:https://scboston.org/wp-content/uploads/2026/04/2026-Excel-National-Festival-Norwood.png
END:VEVENT
END:VCALENDAR