BEGIN:VCALENDAR
VERSION:2.0
PRODID:-//The Skating Club of Boston - ECPv6.7.0//NONSGML v1.0//EN
CALSCALE:GREGORIAN
METHOD:PUBLISH
X-ORIGINAL-URL:https://scboston.org
X-WR-CALDESC:Events for The Skating Club of Boston
REFRESH-INTERVAL;VALUE=DURATION:PT1H
X-Robots-Tag:noindex
X-PUBLISHED-TTL:PT1H
BEGIN:VTIMEZONE
TZID:America/New_York
BEGIN:DAYLIGHT
TZOFFSETFROM:-0500
TZOFFSETTO:-0400
TZNAME:EDT
DTSTART:20250309T070000
END:DAYLIGHT
BEGIN:STANDARD
TZOFFSETFROM:-0400
TZOFFSETTO:-0500
TZNAME:EST
DTSTART:20251102T060000
END:STANDARD
END:VTIMEZONE
BEGIN:VEVENT
DTSTART;TZID=America/New_York:20250126T073000
DTEND;TZID=America/New_York:20250126T082000
DTSTAMP:20260425T073259
CREATED:20241224T194403Z
LAST-MODIFIED:20241225T035424Z
UID:17301-1737876600-1737879600@scboston.org
SUMMARY:IceFlow Yoga on Ice at The Boston Common Frog Pond
DESCRIPTION:Take part in a gentle yoga-inspired skating class for adults of ALL skill levels. Start your day stretching\, breathing\, and gliding in a positive way! \nLearn More and Sign-Up Now!
URL:https://scboston.org/event/iceflow-yoga-on-ice-2/
LOCATION:The Boston Common Frog Pond\, Tremont Street\, Boston\, Massachusetts\, 02111\, United States
CATEGORIES:Club Calendar,Events,Featured,Member Events,Public Events,Seminars and Workshops
ATTACH;FMTTYPE=image/jpeg:https://scboston.org/wp-content/uploads/2024/12/image.jpeg
GEO:42.3550897;-71.0657256
X-APPLE-STRUCTURED-LOCATION;VALUE=URI;X-ADDRESS=The Boston Common Frog Pond Tremont Street Boston Massachusetts 02111 United States;X-APPLE-RADIUS=500;X-TITLE=Tremont Street:geo:-71.0657256,42.3550897
END:VEVENT
END:VCALENDAR