BEGIN:VCALENDAR
VERSION:2.0
PRODID:-//The Skating Club of Boston - ECPv6.7.0//NONSGML v1.0//EN
CALSCALE:GREGORIAN
METHOD:PUBLISH
X-WR-CALNAME:The Skating Club of Boston
X-ORIGINAL-URL:https://scboston.org
X-WR-CALDESC:Events for The Skating Club of Boston
REFRESH-INTERVAL;VALUE=DURATION:PT1H
X-Robots-Tag:noindex
X-PUBLISHED-TTL:PT1H
BEGIN:VTIMEZONE
TZID:America/New_York
BEGIN:DAYLIGHT
TZOFFSETFROM:-0500
TZOFFSETTO:-0400
TZNAME:EDT
DTSTART:20240310T070000
END:DAYLIGHT
BEGIN:STANDARD
TZOFFSETFROM:-0400
TZOFFSETTO:-0500
TZNAME:EST
DTSTART:20241103T060000
END:STANDARD
END:VTIMEZONE
BEGIN:VEVENT
DTSTART;TZID=America/New_York:20240214T190000
DTEND;TZID=America/New_York:20240214T210000
DTSTAMP:20260423T132433
CREATED:20240207T152033Z
LAST-MODIFIED:20240207T152033Z
UID:16474-1707937200-1707944400@scboston.org
SUMMARY:Sweetheart Skate
DESCRIPTION:Looking for a memorable Valentine’s Day experience? Look no further! Join us for our Sweetheart Skate event at Norwood\, where romance meets the ice. With complimentary skate rentals\, delightful refreshments\, and the perfect backdrop for the evening\, this event promises to be an unforgettable Valentine’s Day celebration. Book your tickets now and make this Valentine’s Day one to remember! \nTicket includes:\n❤️ Skating\n❤️ Skate Rentals\n❤️ Hot and Cold Appetizers\n❤️ Access to a Cash Bar\n❤️ Themed Music \n$65 for a couple  \n$35 for a single 
URL:https://scboston.org/event/sweetheart-skate/
LOCATION:750 University Avenue Norwood MA 02062\, 750 University Avenue\, Norwood\, MA\, 02062\, United States
ATTACH;FMTTYPE=image/png:https://scboston.org/wp-content/uploads/2024/02/Copy-of-Valentines-Day-1880-x-1576-px.png
GEO:42.197817;-71.173202
X-APPLE-STRUCTURED-LOCATION;VALUE=URI;X-ADDRESS=750 University Avenue Norwood MA 02062 750 University Avenue Norwood MA 02062 United States;X-APPLE-RADIUS=500;X-TITLE=750 University Avenue:geo:-71.173202,42.197817
END:VEVENT
BEGIN:VEVENT
DTSTART;TZID=America/New_York:20240120T140000
DTEND;TZID=America/New_York:20240120T170000
DTSTAMP:20260423T132433
CREATED:20231227T193827Z
LAST-MODIFIED:20231227T193939Z
UID:16403-1705759200-1705770000@scboston.org
SUMMARY:Performance Seminar
DESCRIPTION:Get ready for a comprehensive three-hour seminar\, both on and off the ice\, to refine your performance skills. Discover how to approach skating from a Showcase perspective and gain valuable insights from artistic skating experts.
URL:https://scboston.org/event/performance-seminar/
LOCATION:750 University Avenue Norwood MA 02062\, 750 University Avenue\, Norwood\, MA\, 02062\, United States
CATEGORIES:Seminars and Workshops
ATTACH;FMTTYPE=image/png:https://scboston.org/wp-content/uploads/2023/12/Performance-Seminar-Instagram-Post.png
GEO:42.197817;-71.173202
X-APPLE-STRUCTURED-LOCATION;VALUE=URI;X-ADDRESS=750 University Avenue Norwood MA 02062 750 University Avenue Norwood MA 02062 United States;X-APPLE-RADIUS=500;X-TITLE=750 University Avenue:geo:-71.173202,42.197817
END:VEVENT
END:VCALENDAR